BEGIN:VCALENDAR
VERSION:2.0
PRODID:-//ChamberMaster//Event Calendar 2.0//EN
METHOD:PUBLISH
X-PUBLISHED-TTL:P3D
REFRESH-INTERVAL:P3D
CALSCALE:GREGORIAN
BEGIN:VEVENT
DTSTART:20210129T133000Z
DTEND:20210129T141500Z
X-MICROSOFT-CDO-ALLDAYEVENT:FALSE
SUMMARY:Breakfast with the Commissioners
DESCRIPTION:The Chamber welcomes the Chester County Commissioners for a virtual breakfast where they will share their 2021 priorities\, action items and expectations for the future of the County. We will open up a Q & A section for business owners to ask their own questions. \n\n\n\nJANUARY 29\, 2021\n\n8:30 a.m. to 9:15 a.m. \n\n\n\nRegister through the red register button above to be sent a link to join this webinar. \n\nRegistrants will be sent a link to join this virtual event.\n\n\n\nSUBMIT QUESTIONS AHEAD OF TIME HERE
X-ALT-DESC;FMTTYPE=text/html:<br />\n<span style="font-size:14px\;"><span style="font-family:arial\;"><span style="letter-spacing: 0.512px\; text-align: center\; background-color: rgb(255\, 255\, 255)\;">The Chamber welcomes the Chester County Commissioners for a virtual breakfast where they will share their 2021 priorities\, action items and expectations for the future of the County. We will open up a Q &amp\; A section for business owners to ask their own questions.&nbsp\;<br />\n<br />\n<span style="font-size:18px\;">JANUARY 29\, 2021<br />\n8:30 a.m. to 9:15 a.m.&nbsp\;<br />\n<br />\n<span style="font-size:14px\;">Register through the red register button above to be sent a link to join this webinar.&nbsp\;<br />\nRegistrants will be sent a link to join this virtual event.</span></span></span></span></span><br />\n<br />\n<a href="http://www.westernchestercounty.com/submit_questions/"><span style="color:#0000FF\;"><u><strong>SUBMIT QUESTIONS AHEAD OF TIME HERE</strong></u></span></a>
LOCATION:Virtual
UID:e.2394.3111
SEQUENCE:3
DTSTAMP:20260420T132411Z
URL:https://membership.westernchestercounty.com/events/details/breakfast-with-the-commissioners-3111
END:VEVENT

END:VCALENDAR
