BEGIN:VCALENDAR
VERSION:2.0
PRODID:-//ChamberMaster//Event Calendar 2.0//EN
METHOD:PUBLISH
X-PUBLISHED-TTL:P3D
REFRESH-INTERVAL:P3D
CALSCALE:GREGORIAN
BEGIN:VEVENT
DTSTART:20150808T160000Z
DTEND:20150808T210000Z
X-MICROSOFT-CDO-ALLDAYEVENT:FALSE
SUMMARY:COMMUNITY EVENT - 11th Annual Valley Day
DESCRIPTION:11th Annual Valley Day\n\n\n\nSaturday\, August 8\, 2015\n\n\n\n12:00 - 5:00pm\n\n\n\nHighlands Corporate Center
X-ALT-DESC;FMTTYPE=text/html:<strong><span style="font-size:16px\;">&#8203\;</span>11th Annual Valley Day<br />\n<br />\nSaturday\, August 8\, 2015<br />\n<br />\n12:00 - 5:00pm<br />\n<br />\nHighlands Corporate Center</strong>
LOCATION:Highland Corporate Center Highland Boulevard Coatesville\, PA 19320
UID:e.2394.17
SEQUENCE:3
DTSTAMP:20260421T101832Z
URL:https://membership.westernchestercounty.com/events/details/community-event-11th-annual-valley-day-08-08-2015-17
END:VEVENT

END:VCALENDAR
