BEGIN:VCALENDAR
VERSION:2.0
PRODID:-//ChamberMaster//Event Calendar 2.0//EN
METHOD:PUBLISH
X-PUBLISHED-TTL:P3D
REFRESH-INTERVAL:P3D
CALSCALE:GREGORIAN
BEGIN:VEVENT
DTSTART:20150920T020000Z
DTEND:20150919T180000Z
X-MICROSOFT-CDO-ALLDAYEVENT:FALSE
SUMMARY:COMMUNITY EVENT - Honey Brook Harmony Day at Honey Brook Elementary Center
DESCRIPTION:This year\, our community festival will take place on Saturday\, September 19th from 10 AM to 2 PM at the Honey Brook Elementary Center. \n\nFor more information\, visit www.HoneyBrookevents.com
X-ALT-DESC;FMTTYPE=text/html:<p class="MsoNormal" style="text-align: center\;">&nbsp\;<span style="font-size:16px\;"> This year\, our community festival will take place on Saturday\, September 19<sup>th</sup> from 10 AM to 2 PM at the Honey Brook Elementary Center.&nbsp\;</span></p>\n\n<p class="MsoNormal" style="text-align: center\;"><span style="font-size:16px\;">For more information\,&nbsp\;visit www.HoneyBrookevents.com&nbsp\;</span></p>\n
LOCATION:Honey Brook Elementary Center 1530 Walnut Road Honey Brook\, PA 19344
UID:e.2394.16
SEQUENCE:3
DTSTAMP:20260421T082741Z
URL:https://membership.westernchestercounty.com/events/details/community-event-honey-brook-harmony-day-at-honey-brook-elementary-center-09-19-2015-16
END:VEVENT

END:VCALENDAR
