BEGIN:VCALENDAR
VERSION:2.0
PRODID:-//ChamberMaster//Event Calendar 2.0//EN
METHOD:PUBLISH
X-PUBLISHED-TTL:P3D
REFRESH-INTERVAL:P3D
CALSCALE:GREGORIAN
BEGIN:VEVENT
DTSTART:20150808T150000Z
DTEND:20150808T210000Z
X-MICROSOFT-CDO-ALLDAYEVENT:FALSE
SUMMARY:COMMUNITY EVENT - Parkesburg Community Day
DESCRIPTION:Parkesburg Community Day\n\n\n\n5K Race & 1 Mile Walk\n\nSack & Egg on Spoon Races\n\nFirefighters Challenge\n\nCake & Pie Baking Contest\n\nCar Show    \n\nMusic\n\nBike Race  \n\nSword Swallower\n\nFood     \n\nVendors  \n\nAuction
X-ALT-DESC;FMTTYPE=text/html:<div><strong><span style="font-size:16px\;">Parkesburg&nbsp\;Community Day</span></strong><br />\n<br />\n5K Race &amp\; 1 Mile Walk<br />\nSack &amp\; Egg on Spoon Races<br />\nFirefighters Challenge<br />\nCake &amp\; Pie Baking Contest<br />\nCar Show &nbsp\; &nbsp\;<br />\nMusic<br />\nBike Race &nbsp\;<br />\nSword Swallower</div>\n\n<div>Food &nbsp\; &nbsp\;&nbsp\;<br />\nVendors &nbsp\;<br />\nAuction</div>\n
LOCATION:Minch Park Parkesburg\, PA 19365
UID:e.2394.18
SEQUENCE:3
DTSTAMP:20260421T115459Z
URL:https://membership.westernchestercounty.com/events/details/community-event-parkesburg-community-day-08-08-2015-18
END:VEVENT

END:VCALENDAR
