BEGIN:VCALENDAR
VERSION:2.0
PRODID:-//ChamberMaster//Event Calendar 2.0//EN
METHOD:PUBLISH
X-PUBLISHED-TTL:P3D
REFRESH-INTERVAL:P3D
CALSCALE:GREGORIAN
BEGIN:VEVENT
DTSTART:20211109T123000Z
DTEND:20211109T140000Z
X-MICROSOFT-CDO-ALLDAYEVENT:FALSE
SUMMARY:Cyber-Security Seminar
DESCRIPTION:Organizations of all sizes\, in every industry can be hit by cyber attacks. Discover how you can proactively defend against cyberattacks\, rather than sit back and simply clean up after the fact.\n\n\n\nIn this Cyber Security Seminar\, First Resource Banks' IT Expert\, Brian Jackson\, will provide insight on protecting you and your business. \n\n\n\nNovember 9th 2021 | 7:30 a.m. to 9:00 a.m.\n\n*Light breakfast will be served. \n\n\n\nHeld at the Spackman Center at Brandywine Hospital Grounds.
X-ALT-DESC;FMTTYPE=text/html:<br />\n<span style="font-family:arial\;"><span style="font-size:14px\;"><span style="color:#000000\;"><span style="background-color: rgb(255\, 255\, 255)\;">Organizations of all sizes\, in every industry can be hit by cyber attacks. Discover how you can&nbsp\;proactively defend against cyberattacks\, rather than sit back and simply clean up after the fact.</span><br />\n<br />\nIn this Cyber Security Seminar\, First Resource Banks&#39\; IT Expert\, Brian Jackson\, will provide insight on protecting you and your business.&nbsp\;<br />\n<br />\n<strong><span style="font-size:20px\;">November 9th 2021</span> | 7:30 a.m. to 9:00 a.m.</strong><br />\n*Light breakfast will be served.&nbsp\;<br />\n<br />\nHeld at the Spackman Center at Brandywine Hospital Grounds.&nbsp\;</span></span></span>
LOCATION:Spackman Center 215 Reeceville Rd Coatesville\, PA 19320
UID:e.2394.3271
SEQUENCE:3
DTSTAMP:20260421T112522Z
URL:https://membership.westernchestercounty.com/events/details/cyber-security-seminar-3271
END:VEVENT

END:VCALENDAR
