BEGIN:VCALENDAR
VERSION:2.0
PRODID:-//ChamberMaster//Event Calendar 2.0//EN
METHOD:PUBLISH
X-PUBLISHED-TTL:P3D
REFRESH-INTERVAL:P3D
CALSCALE:GREGORIAN
BEGIN:VEVENT
DTSTART:20201215T233000Z
DTEND:20201216T003000Z
X-MICROSOFT-CDO-ALLDAYEVENT:FALSE
SUMMARY:Holiday Wine & Cheese with Stargazers Vineyard and Conebella Farm
DESCRIPTION:Holiday Wine & Cheese with\n\nStargazers Vineyard and Conebella Farm\n\nVirtual Webinar hosted by Chester County Ag Council\n\n\n\nMichael Vorauer and Jason Kirkpatrick from Stargazers Vineyard and WInery in Coatesville and Don Gable from Conebella Farm in Elverson are teaming up to present delicious ways to enjoy local wine and cheese over the holidays. They will also share their personal stories on how their farms came to be and why its important to celebrate the flavors of Chester County agriculture every chance we get. This program is part of the Farm and Table Tales series\, this. month hosted in. partnership with Western Chester County Chamber of Commerce\n\n\n\nREGISTER- FREE TO ATTEND  \n\nchescofarming.org/webinars.cfm
X-ALT-DESC;FMTTYPE=text/html:<br />\n<span style="font-size:18px\;"><em><strong>Holiday Wine &amp\; Cheese with<br />\nStargazers Vineyard and Conebella Farm</strong></em><br />\n<span style="font-size:14px\;">Virtual Webinar hosted by Chester County Ag Council</span></span><br />\n<br />\nMichael Vorauer and Jason Kirkpatrick from Stargazers Vineyard and WInery in Coatesville and Don Gable from Conebella Farm in Elverson are teaming up to present delicious ways to enjoy local wine and cheese over the holidays. They will also share their personal stories on how their farms came to be and why its important to celebrate the flavors of Chester County agriculture every chance we get. This program is part of the Farm and Table Tales series\, this. month hosted in. partnership with Western Chester County Chamber of Commerce<br />\n<br />\nREGISTER- FREE TO ATTEND&nbsp\;&nbsp\;<br />\n<a href="https://chescofarming.org/Webinars.cfm">chescofarming.org/webinars.cfm</a><br />\n<br />\n&nbsp\;
LOCATION:Virtual Register HERE
UID:e.2394.3109
SEQUENCE:3
DTSTAMP:20260420T114913Z
URL:https://membership.westernchestercounty.com/events/details/holiday-wine-cheese-with-stargazers-vineyard-and-conebella-farm-3109
END:VEVENT

END:VCALENDAR
