BEGIN:VCALENDAR
VERSION:2.0
PRODID:-//ChamberMaster//Event Calendar 2.0//EN
METHOD:PUBLISH
X-PUBLISHED-TTL:P3D
REFRESH-INTERVAL:P3D
CALSCALE:GREGORIAN
BEGIN:VEVENT
DTSTART:20150709T210000Z
DTEND:20150709T230000Z
X-MICROSOFT-CDO-ALLDAYEVENT:FALSE
SUMMARY:Joint Networking & Golf Event
DESCRIPTION:Joint Network Event with Downingtown-Thorndale Regional Chamber\n\n\n\nJoin Chamber members and guests for networking\, light refreshments\, and friendly games.\n\n\n\nDon't miss your chance to make new connections!
X-ALT-DESC;FMTTYPE=text/html:<strong><span style="font-size:18px\;">Joint Network Event with Downingtown-Thorndale Regional Chamber</span></strong><br />\n<br />\n<strong><span style="font-size:16px\;">Join Chamber members and guests for networking\, light refreshments\, and friendly games.</span></strong><br />\n<br />\n<em><strong><span style="font-size:16px\;">Don&#39\;t miss your chance to make new connections!</span></strong></em>
LOCATION:Ingleside Golf Club 104 Horseshoe Drive Thorndale\, PA 19372
UID:e.2394.4
SEQUENCE:3
DTSTAMP:20260421T132707Z
URL:https://membership.westernchestercounty.com/events/details/joint-networking-golf-event-07-09-2015-4
END:VEVENT

END:VCALENDAR
