BEGIN:VCALENDAR
VERSION:2.0
PRODID:-//ChamberMaster//Event Calendar 2.0//EN
METHOD:PUBLISH
X-PUBLISHED-TTL:P3D
REFRESH-INTERVAL:P3D
CALSCALE:GREGORIAN
BEGIN:VEVENT
DTSTART:20211207T210000Z
DTEND:20211208T000000Z
X-MICROSOFT-CDO-ALLDAYEVENT:FALSE
SUMMARY:Member Orientation & Happy Hour
DESCRIPTION:MEMBER ORIENTATION & NETWORKING HAPPY HOUR \n\n\n\nDiscover the resources the Chamber provides for you to strengthen your business. This orientation will give an overview of what the Chamber is all about\; including the tools you can leverage\, our initiatives\, upcoming events\, membership perks and more. Open to current members\, new members and individuals interested in learning more. \n\n\n\nFollowed by a Networking Happy Hour 5:00 p.m. to 7:00 p.m.\n\n\n\nFree to Attend | Please register \n\n\n\nDETAILS:\n\nDECEMBER 7\, 2021 \n\n4:00. p.m. - 5:00 p.m. - Member Orientation\n\n5:00 p.m.- 7:00 p.m.- Networking Happy Hour \n\nLocation: Harry's Attic Tap & Rec Room  - 2949 Lincoln Highway Sadsburyville
X-ALT-DESC;FMTTYPE=text/html:<br />\n<br />\n<span style="font-family: Verdana\, Arial\, sans-serif\; font-size: 13px\;"><span style="font-size:16px\;"><strong>MEMBER ORIENTATION &amp\; NETWORKING HAPPY HOUR&nbsp\;</strong></span><br />\n<br />\n<span style="font-size:14px\;"><span style="font-family:arial\;">Discover the resources the Chamber provides for you to strengthen your business. This orientation will give an overview of what the Chamber is all about\; including the tools you can leverage\, our initiatives\, upcoming events\, membership perks and more.&nbsp\;</span></span></span><span style="font-size:14px\;"><span style="font-family:arial\;">Open to current members\, new members and individuals interested in learning more.&nbsp\;</span></span><br />\n<br />\n<span style="color:#800000\;"><em><span style="font-size:18px\;"><strong>Followed by a Networking Happy Hour 5:00 p.m. to 7:00 p.m.</strong></span></em></span><br />\n<br />\nFree to Attend | Please register&nbsp\;<br />\n<br />\n<em><strong>DETAILS:</strong></em><br />\nDECEMBER 7\, 2021&nbsp\;<br />\n4:00. p.m. - 5:00 p.m. - Member Orientation<br />\n5:00 p.m.- 7:00 p.m.- Networking Happy Hour&nbsp\;<br />\nLocation: Harry&#39\;s Attic Tap &amp\; Rec Room&nbsp\; - 2949 Lincoln Highway Sadsburyville<br style="bottom: auto\; box-sizing: content-box\; clear: none\; content: normal\; direction: inherit\; display: inline\; empty-cells: show\; float: none\; font-variant-numeric: inherit\; font-variant-east-asian: inherit\; font-stretch: inherit\; font-size: 13px\; font-family: Verdana\, Arial\, sans-serif\; left: auto\; line-height: inherit\; margin: 0px\; max-height: none\; max-width: none\; min-height: initial\; min-width: initial\; opacity: 1\; outline-offset: 0px\; overflow: visible\; padding: 0px\; position: static\; resize: none\; right: auto\; table-layout: auto\; text-overflow: clip\; top: auto\; vertical-align: baseline\; visibility: inherit\; word-break: inherit\; overflow-wrap: inherit\; z-index: auto\; background: none rgb(226\, 226\, 226)\; border: none\; border-collapse: separate\; border-radius: 0px\; height: auto\; width: auto\;" />\n<br style="bottom: auto\; box-sizing: content-box\; clear: none\; content: normal\; direction: inherit\; display: inline\; empty-cells: show\; float: none\; font-variant-numeric: inherit\; font-variant-east-asian: inherit\; font-stretch: inherit\; font-size: 13px\; font-family: Verdana\, Arial\, sans-serif\; left: auto\; line-height: inherit\; margin: 0px\; max-height: none\; max-width: none\; min-height: initial\; min-width: initial\; opacity: 1\; outline-offset: 0px\; overflow: visible\; padding: 0px\; position: static\; resize: none\; right: auto\; table-layout: auto\; text-overflow: clip\; top: auto\; vertical-align: baseline\; visibility: inherit\; word-break: inherit\; overflow-wrap: inherit\; z-index: auto\; background: none rgb(226\, 226\, 226)\; border: none\; border-collapse: separate\; border-radius: 0px\; height: auto\; width: auto\;" />\n&nbsp\;
LOCATION:Harry's Attic Tap & Rec Room 2949 Lincoln Highway\, Sadsburyville
UID:e.2394.3276
SEQUENCE:3
DTSTAMP:20260421T113103Z
URL:https://membership.westernchestercounty.com/events/details/member-orientation-happy-hour-3276
END:VEVENT

END:VCALENDAR
