BEGIN:VCALENDAR
VERSION:2.0
PRODID:-//ChamberMaster//Event Calendar 2.0//EN
METHOD:PUBLISH
X-PUBLISHED-TTL:P3D
REFRESH-INTERVAL:P3D
CALSCALE:GREGORIAN
BEGIN:VEVENT
DTSTART:20150910T203000Z
DTEND:20150910T230000Z
X-MICROSOFT-CDO-ALLDAYEVENT:FALSE
SUMMARY:Progressive Networking Event - Parkesburg
DESCRIPTION:Join WCCCC members and guests for a walk around Parkesburg visiting local businesses. \n\nThe Parkesburg Area Business Association works to unify member businesses in the continuing promotion of all Parkesburg area businesses at large and to promote the Parkesburg Community in general.\n\nWCCCC Mission: Connecting our members to new ideas\, resources\, and relationships to achieve their goals. WCCCC Vision: A thriving region that is well connected\, innovative & accessible for community & business growth.\n\nComplementary refreshments at certain locations
X-ALT-DESC;FMTTYPE=text/html:<div style="text-align: center\;"><span style="font-size:14px\;"><strong>Join&nbsp\;WCCCC members and guests for a walk around Parkesburg visiting local businesses.&nbsp\;</strong></span><br />\nThe Parkesburg Area Business Association works to unify member businesses in the continuing promotion of all Parkesburg area businesses at large and to promote the&nbsp\;Parkesburg&nbsp\;Community in general.<br />\nWCCCC Mission: Connecting our members to new ideas\, resources\, and relationships to achieve their goals. WCCCC Vision: A thriving region that is well connected\, innovative &amp\; accessible for community &amp\; business growth.</div>\n\n<div><u>Complementary refreshments at certain locations</u><br />\n&nbsp\;</div>\n\n<div style="text-align: center\;">&nbsp\;</div>\n
LOCATION:Parkesburg Business District Parkesburg\, PA 19365 Registration will be held in Borough Hall
UID:e.2394.20
SEQUENCE:3
DTSTAMP:20260421T084029Z
URL:https://membership.westernchestercounty.com/events/details/progressive-networking-event-parkesburg-09-10-2015-20
END:VEVENT

END:VCALENDAR
