BEGIN:VCALENDAR
VERSION:2.0
PRODID:-//ChamberMaster//Event Calendar 2.0//EN
METHOD:PUBLISH
X-PUBLISHED-TTL:P3D
REFRESH-INTERVAL:P3D
CALSCALE:GREGORIAN
BEGIN:VEVENT
DTSTART:20200530T120000Z
DTEND:20200530T150000Z
X-MICROSOFT-CDO-ALLDAYEVENT:FALSE
SUMMARY:Race Against Violence 5k
DESCRIPTION:Join CVC for the 25th Annual Race Against Violence 5k. All proceeds to benefit The Crime Victims' Center of Chester County\, Inc.
X-ALT-DESC;FMTTYPE=text/html:Join CVC for the 25th Annual Race Against Violence 5k. All proceeds to benefit The Crime Victims&#39\; Center of Chester County\, Inc.
LOCATION:West Goshen Community Park\, West Chester\, PA
UID:e.2394.3090
SEQUENCE:3
DTSTAMP:20260420T055230Z
URL:https://membership.westernchestercounty.com/events/details/race-against-violence-5k-3090
END:VEVENT

END:VCALENDAR
