BEGIN:VCALENDAR
VERSION:2.0
PRODID:-//ChamberMaster//Event Calendar 2.0//EN
METHOD:PUBLISH
X-PUBLISHED-TTL:P3D
REFRESH-INTERVAL:P3D
CALSCALE:GREGORIAN
BEGIN:VEVENT
DTSTART:20201023T220000Z
DTEND:20201023T230000Z
X-MICROSOFT-CDO-ALLDAYEVENT:FALSE
SUMMARY:Revival Productions Ribbon Cutting
DESCRIPTION:Join us in celebrating Coatesville's new performing arts company\,\n\nRevival Productions! \n\nRibbon Cutting \n\n\n\n \nRevival Productions is a performing arts company with a team of professionals and enthusiasts whose collective experience equates to over 100 years. Their goal is to provide exceptional and affordable live entertainment of ALL genres for ALL ages! As the city of Coatesville undergoes tremendous revitalization projects\, Revival Productions hopes to contribute to the "revival" of our beautiful community. \n\n\n\nDATE: October 23\, 2020 | 5:30 pm start\, ribbon cutting at 6:00 p.m. \n\nPLACE: \n\n17 North Church Street\, Coatesville\n\n\n\n\nRevival Performing Arts Conservatory (revpac) is the educational department of Revival Productions. Revpac exists to bring the highest quality training in music\, dance\, theatre\, and technical arts to the Coatesville and Chester County community\, offering classes and lessons for babies through adults.\n\n\n\n\n\nStarting October 23rd to November 1st\,  Revival will host POE\, a  walk-through Halloween Haunted House experience sure to make your spine tingle\, all while exploring the stories and poems of Mr. Edgar Allan Poe.  To discover more upcoming performances visit https://revival-productions.com/calendar-of-events
X-ALT-DESC;FMTTYPE=text/html:<div style="text-align: center\;"><br />\n<span style="font-size:16px\;"><span style="font-family:times new roman\;"><em><strong>Join us in celebrating Coatesville&#39\;s new performing arts company\,<br />\n<span style="font-size:22px\;">Revival Productions!&nbsp\;</span></strong></em></span></span></div>\n\n<div style="text-align: center\;"><span style="font-size:20px\;"><span style="font-family:comic sans ms\;"><em><strong>Ribbon Cutting&nbsp\;</strong></em></span></span><br />\n<br />\n&nbsp\;</div>\n<span style="font-size:14px\;"><span background-color:="" sans="" source="" style="font-family: " text-align:="">Revival Productions is a performing arts company with a team of professionals and enthusiasts whose collective experience equates to over 100 years. Their goal is to provide exceptional and affordable live entertainment of ALL genres for ALL ages! As the city of Coatesville undergoes tremendous revitalization projects\, Revival Productions hopes to contribute to the &quot\;revival&quot\; of our beautiful community.&nbsp\;<br />\n<br />\n<span style="color:#FF8C00\;"><em><strong>DATE:</strong></em></span> <em><strong>October 23\, 2020 | 5:30 pm start\, ribbon cutting at 6:00 p.m.&nbsp\;</strong></em><br />\n<span style="color:#FF8C00\;"><em><strong>PLACE:&nbsp\;</strong></em></span></span></span>\n\n<div background-color:="" class="x-el x-el-div c1-1 c1-2 c1-18 c1-19 c1-1a c1-1b c1-1c c1-1j c1-b c1-1n c1-c c1-1f c1-1g c1-1o c1-d c1-e c1-f c1-g" color:="" data-aid="HEADER_ADDRESS_RENDERED" data-typography="BodyAlpha" data-ux="ContactBarAddress" display:="" font-size:="" line-height:="" margin-bottom:="" margin-top:="" overflow-wrap:="" sans="" source="" style="box-sizing: inherit\; font-family: " text-align:=""><em><strong>17 North Church Street\, Coatesville</strong></em></div>\n<br />\n<br />\n<span style="font-size:14px\;"><span style="font-family:arial\;"><span style="text-align: center\; background-color: rgb(255\, 255\, 255)\;">Revival Performing Arts Conservatory (revpac) is the educational department of Revival Productions. Revpac exists to bring the highest quality training in music\, dance\, theatre\, and technical arts to the Coatesville and Chester County community\, offering classes and lessons for babies through adults.</span></span></span><br />\n<br />\n<br />\n<span style="font-size:14px\;"><span style="font-family:arial\;">Starting October 23rd to November 1st\,&nbsp\; Revival will host POE\, a&nbsp\;&nbsp\;walk-through Halloween Haunted House experience sure to make your spine tingle\, all while exploring the stories and poems of Mr. Edgar Allan Poe.&nbsp\; To discover more upcoming performances visit&nbsp\;</span></span><a href="https://revival-productions.com/calendar-of-events">https://revival-productions.com/calendar-of-events</a>\n\n<div class="x-el x-el-div c2-1 c2-2 c2-3 c2-4 c2-5 c2-6 c2-7 c2-8" color:="" data-aid="CALENDAR_DESC" data-ux="Block" font-size:="" sans="" source="" style="box-sizing: inherit\; font-family: ">\n<div class="x-el x-el-p c2-1 c2-2 c2-c c2-d c2-3c c2-3d c2-2c c2-3 c2-3e c2-4 c2-16 c2-5 c2-6 c2-7 c2-8 x-rt" data-aid="CALENDAR_DESC_TEXT" data-typography="BodyAlpha" data-ux="Text" style="box-sizing: inherit\; overflow-wrap: break-word\; margin-bottom: 0px\; line-height: 1.5\; margin-top: 16px\; color: rgb(94\, 94\, 94)\;">\n<p style="box-sizing: inherit\; margin: 0px\;">&nbsp\;</p>\n</div>\n</div>\n
LOCATION:17 North Church Street\, Coatesville
UID:e.2394.3107
SEQUENCE:3
DTSTAMP:20260420T081434Z
URL:https://membership.westernchestercounty.com/events/details/revival-productions-ribbon-cutting-3107
END:VEVENT

END:VCALENDAR
