BEGIN:VCALENDAR
VERSION:2.0
PRODID:-//ChamberMaster//Event Calendar 2.0//EN
METHOD:PUBLISH
X-PUBLISHED-TTL:P3D
REFRESH-INTERVAL:P3D
CALSCALE:GREGORIAN
BEGIN:VEVENT
DTSTART:20210203T130000Z
DTEND:20210203T140000Z
X-MICROSOFT-CDO-ALLDAYEVENT:FALSE
SUMMARY:Stormwater Management Virtual Meeting
DESCRIPTION:Meeting to Discuss Chester County's Stormwater Management Plan and Water Resources Plan\n\n\n\nTime: Feb 3\, 2021 08:00 AM Eastern Time\n\n \n\nJoin Zoom Meeting: https://us02web.zoom.us/j/87348463110   \n\nMeeting ID: 873 4846 3110\n\nOr dial 1 929 205 6099 and enter the meeting ID.\n\n \n\nDescription:\n\nThe Chester County Water Resources Authority is leading the effort to update the County's integrated water resources plan\, Watersheds\,  the County's Stormwater Management Plan\, and the County's Stormwater Management Model Ordinance. The County is undertaking this effort to support the implementation of Landscapes3\, to help MS4 municipalities comply with municipal stormwater ordinance updates required by DEP\,  and to meet the County's obligations under the Pennsylvania Stormwater Management Act (Act 167). These plan will also help to ensure that the County has the best available guidance and information to respond to current and future water resources concerns facing the County and its residents and businesses.\n\n \n\nCCWRA will use this presentation to introduce the current plans\, to provide a brief overview of current County conditions\, and to discuss some of the potential changes under consideration for the updated stormwater model ordinance. We will also use this time to learn about attendees' water resources concerns and or challenges. Our plan is to complete a model ordinance ready for DEP's review sometime during the fall of 2021. This would allow time for municipal adoption prior to DEP September 30\, 2022 deadline. The final integrated water resources and stormwater management plan will be completed by the end of 2022 and will serve at the water resources component to Landscapes3.
X-ALT-DESC;FMTTYPE=text/html:<span style="color: rgb(34\, 34\, 34)\; font-family: Arial\, Helvetica\, sans-serif\; font-size: small\; background-color: rgb(255\, 255\, 255)\;"><span style="font-size:16px\;"><em><strong>Meeting to Discuss Chester County&#39\;s Stormwater Management Plan and Water Resources Plan</strong></em></span></span><br />\n<br />\n<strong>Time: Feb 3\, 2021 08:00 AM Eastern Time</strong><br />\n&nbsp\;<br />\nJoin Zoom Meeting:&nbsp\;<a data-saferedirecturl="https://www.google.com/url?q=https://us02web.zoom.us/j/87348463110&amp\;source=gmail&amp\;ust=1612019245357000&amp\;usg=AFQjCNEaYMxdIL5pWU4REWRypNzcVOTBIw" href="https://us02web.zoom.us/j/87348463110" style="color:rgb(17\, 85\, 204)\;" target="_blank">https://us02web.zoom.us/j/<wbr />87348463110</a>&nbsp\;&nbsp\;&nbsp\;<br />\nMeeting ID: 873 4846 3110<br />\nOr dial 1 929 205 6099 and enter the meeting ID.<br />\n&nbsp\;<br />\n<strong>Description:</strong><br />\nThe Chester County Water Resources Authority is leading the effort to update the County&rsquo\;s integrated water resources plan\,&nbsp\;<em>Watersheds\,&nbsp\;</em>&nbsp\;the County&rsquo\;s Stormwater Management Plan\, and the County&rsquo\;s Stormwater Management Model Ordinance. The County is undertaking this effort to support the implementation of&nbsp\;<em>Landscapes3\,&nbsp\;</em>to help MS4 municipalities comply with municipal stormwater ordinance updates required by DEP\, &nbsp\;and to meet the County&rsquo\;s obligations under the Pennsylvania Stormwater Management Act (Act 167). These plan will also help to ensure that the County has the best available guidance and information to respond to current and future water resources concerns facing the County and its residents and businesses.<br />\n&nbsp\;<br />\nCCWRA will use this presentation to introduce the current plans\, to provide a brief overview of current County conditions\, and to discuss some of the potential changes under consideration for the updated stormwater model ordinance. We will also use this time to learn about attendees&rsquo\; water resources concerns and or challenges. Our plan is to complete a model ordinance ready for DEP&rsquo\;s review sometime during the fall of 2021. This would allow time for municipal adoption prior to DEP September 30\, 2022 deadline. The final integrated water resources and stormwater management plan will be completed by the end of 2022 and will serve at the water resources component to&nbsp\;<em>Landscapes3.</em>
LOCATION:
UID:e.2394.3113
SEQUENCE:3
DTSTAMP:20260420T150855Z
URL:https://membership.westernchestercounty.com/events/details/stormwater-management-virtual-meeting-3113
END:VEVENT

END:VCALENDAR
