BEGIN:VCALENDAR
VERSION:2.0
PRODID:-//ChamberMaster//Event Calendar 2.0//EN
METHOD:PUBLISH
X-PUBLISHED-TTL:P3D
REFRESH-INTERVAL:P3D
CALSCALE:GREGORIAN
BEGIN:VEVENT
DTSTART:20200417T153000Z
DTEND:20200417T170000Z
X-MICROSOFT-CDO-ALLDAYEVENT:FALSE
SUMMARY:Virtual Seminar- Families First Coronavirus Response Act: Paid Leave and Emergency FMLA Leave
DESCRIPTION:Join us for a virtual seminar on Families First Coronavirus Response Act: Paid Leave and Emergency FMLA Leave \n\n\n\nPRESENTED BY: \n\nSiana Law \n\nTime: Apr 17\, 2020 11:30 AM Eastern Time (US and Canada)\n\n\n\nWhat Employers Need To Know\n\n \n\nOn March 18\, 2020\, Congress enacted the Families First Coronavirus Response Act\, which requires all public employers\, and all private employers with 500 employees or less\, to provide two weeks paid sick leave to all employees\, and to provide up to 12 weeks leave (with 10 weeks paid) to employees who must care for children who are at home because of a school or daycare closure.\n\n \n\nThis new law imposes substantial requirements upon all affected employers\, effective April 1\, 2020.\n\n \n\nChristopher Gerber\, Esquire and Michael G. Crotty\, Esquire\, partners with Siana Law\, will address the following issues:\n\n \n\n \n\n	Eligibility\n	Calculation of Benefits\n	Notice Requirements\n	Exemptions\n	Documentation\n	Record keeping\n	Remedies for Violations\n	Impact upon municipal operations & construction products\n\n \n\n \n\n\n\n \n\nJoin Zoom Meeting\n\nhttps://us02web.zoom.us/j/87000564215?pwd=d1N1N1VrVTE5bExYSTBoa29DeE1iZz09\n\n \n\nMeeting ID: 870 0056 4215\n\nPassword: 740492
X-ALT-DESC;FMTTYPE=text/html:<strong><span style="font-size:16px\;">Join us for a virtual seminar on&nbsp\;Families First Coronavirus Response Act: Paid Leave and Emergency FMLA Leave&nbsp\;</span><br />\n<br />\nPRESENTED BY:&nbsp\;<br />\nSiana Law&nbsp\;</strong><br />\n<strong>Time: Apr 17\, 2020 11:30 AM Eastern Time (US and Canada)<br />\n<br />\n<span style="font-family:times new roman\,serif\;"><span style="font-size:14pt\;">What Employers Need To Know</span></span></strong><br />\n&nbsp\;<br />\n<span style="font-family:times new roman\,serif\;"><span style="font-size:12pt\;">On March 18\, 2020\, Congress enacted the Families First Coronavirus Response Act\, which requires all public employers\, and all private employers with 500 employees or less\, to provide two weeks paid sick leave to all employees\, and to provide up to 12 weeks leave (with 10 weeks paid) to employees who must care for children who are at home because of a school or daycare closure.</span></span><br />\n&nbsp\;<br />\n<span style="font-family:times new roman\,serif\;"><span style="font-size:12pt\;">This new law imposes substantial requirements upon all affected employers\, effective April 1\, 2020.</span></span><br />\n&nbsp\;<br />\n<span style="font-family:times new roman\,serif\;"><span style="font-size:12pt\;">Christopher Gerber\, Esquire and Michael G. Crotty\, Esquire\, partners with Siana Law\, will address the following issues:</span></span><br />\n&nbsp\;<br />\n&nbsp\;\n<ul>\n	<li style="font-size:11pt\;font-family:Calibri\, sans-serif\;"><strong><span style="font-family:times new roman\,serif\;"><span style="font-size:12pt\;">Eligibility</span></span></strong></li>\n	<li style="font-size:11pt\;font-family:Calibri\, sans-serif\;"><strong><span style="font-family:times new roman\,serif\;"><span style="font-size:12pt\;">Calculation of Benefits</span></span></strong></li>\n	<li style="font-size:11pt\;font-family:Calibri\, sans-serif\;"><strong><span style="font-family:times new roman\,serif\;"><span style="font-size:12pt\;">Notice Requirements</span></span></strong></li>\n	<li style="font-size:11pt\;font-family:Calibri\, sans-serif\;text-align:justify\;"><strong><span style="font-family:times new roman\,serif\;"><span style="font-size:12pt\;">Exemptions</span></span></strong></li>\n	<li style="font-size:11pt\;font-family:Calibri\, sans-serif\;text-align:justify\;"><strong><span style="font-family:times new roman\,serif\;"><span style="font-size:12pt\;">Documentation</span></span></strong></li>\n	<li style="font-size:11pt\;font-family:Calibri\, sans-serif\;text-align:justify\;"><strong><span style="font-family:times new roman\,serif\;"><span style="font-size:12pt\;">Record keeping</span></span></strong></li>\n	<li style="font-size:11pt\;font-family:Calibri\, sans-serif\;text-align:justify\;"><strong><span style="font-family:times new roman\,serif\;"><span style="font-size:12pt\;">Remedies for Violations</span></span></strong></li>\n	<li style="font-size:11pt\;font-family:Calibri\, sans-serif\;text-align:justify\;"><strong><span style="font-family:times new roman\,serif\;"><span style="font-size:12pt\;">Impact upon municipal operations &amp\; construction products</span></span></strong></li>\n</ul>\n&nbsp\;<br />\n&nbsp\;<br />\n<br />\n&nbsp\;<br />\n<strong>Join Zoom Meeting</strong><br />\n<strong><a data-saferedirecturl="https://www.google.com/url?q=https://us02web.zoom.us/j/87000564215?pwd%3Dd1N1N1VrVTE5bExYSTBoa29DeE1iZz09&amp\;source=gmail&amp\;ust=1586977523359000&amp\;usg=AFQjCNE_KQO2DeWUXOLXVQLyeLJy0fqFzQ" href="https://us02web.zoom.us/j/87000564215?pwd=d1N1N1VrVTE5bExYSTBoa29DeE1iZz09" style="color:rgb(17\, 85\, 204)\;" target="_blank">https://us02web.zoom.us/j/<wbr />87000564215?pwd=<wbr />d1N1N1VrVTE5bExYSTBoa29DeE1iZz<wbr />09</a></strong><br />\n&nbsp\;<br />\n<strong>Meeting ID: 870 0056 4215</strong><br />\n<strong>Password: 740492</strong>
LOCATION:Virtual Seminar
UID:e.2394.3093
SEQUENCE:3
DTSTAMP:20260420T110049Z
URL:https://membership.westernchestercounty.com/events/details/virtual-seminar-families-first-coronavirus-response-act-paid-leave-and-emergency-fmla-leave-3093
END:VEVENT

END:VCALENDAR
