BEGIN:VCALENDAR
VERSION:2.0
PRODID:-//ChamberMaster//Event Calendar 2.0//EN
METHOD:PUBLISH
X-PUBLISHED-TTL:P3D
REFRESH-INTERVAL:P3D
CALSCALE:GREGORIAN
BEGIN:VEVENT
DTSTART:20150716T230000Z
DTEND:20150717T020000Z
X-MICROSOFT-CDO-ALLDAYEVENT:FALSE
SUMMARY:WCCCC Chamber Night at the Reading Fightin' Phils
DESCRIPTION:Special evening dedicated to the Western Chester County Chamber complete with Fireworks after the game! Plus Christmas in July! Each Chamber business receives 10 tickets to the game.
X-ALT-DESC;FMTTYPE=text/html:<table class="ep-dp-dt">\n	<tbody>\n		<tr id=":1c.descript-row">\n			<th class="ep-dp-dt-th">&nbsp\;</th>\n			<td class="ep-dp-dt-td">\n			<div class="ep-dp-descript" id=":1c.descript">\n			<div class="ui-sch">\n			<div class="ui-sch-view">Special evening dedicated to the Western Chester County Chamber complete with Fireworks after the game! Plus Christmas in July! Each Chamber business receives 10 tickets to the game.</div>\n			</div>\n			</div>\n			</td>\n		</tr>\n	</tbody>\n</table>\n
LOCATION:FirstEnergy Stadium 1900 Centre Avenue/Route 61 South Reading\, PA 19605
UID:e.2394.6
SEQUENCE:3
DTSTAMP:20260421T122509Z
URL:https://membership.westernchestercounty.com/events/details/wcccc-chamber-night-at-the-reading-fightin-phils-07-16-2015-6
END:VEVENT

END:VCALENDAR
