BEGIN:VCALENDAR
VERSION:2.0
PRODID:-//ChamberMaster//Event Calendar 2.0//EN
METHOD:PUBLISH
X-PUBLISHED-TTL:P3D
REFRESH-INTERVAL:P3D
CALSCALE:GREGORIAN
BEGIN:VEVENT
DTSTART:20201027T140000Z
DTEND:20201027T153000Z
X-MICROSOFT-CDO-ALLDAYEVENT:FALSE
SUMMARY:What it Takes to Start & Run a Successful Non-Profit
DESCRIPTION:WHAT IT TAKES TO START AND RUN A SUCCESSFUL NON-PROFIT \n\nOctober 27\, 2020 | 10:00 am to 11:30 am \n\nRegister here- http://events.r20.constantcontact.com/register/event?llr=ekds7zcab&oeidk=a07eh9wwe88ea2bdc7c\n\n\n\nPRESENTED BY MIKE DILEO | In partnership with SCORE of Chester / Delaware Counties\n\n\n\nThis interactive presentation is designed to cover three main areas:\n\n	What are the key-steps in starting a Non-profit?\n	What are some of the day-to-day tactics which can help maintain a successful Non-profit?\n	What are some strategies that can be used over time to ensure continued success?\n\nSeveral local Non-profits will be used as examples to illustrate practical approaches to dealing with the opportunities and challenges of running a Non-profit.\\\n\n \n\nPresenter- Mike Dileo\n\nMike worked for the DuPont Company in the field of business financial management with over 25 years as CFO of international joint ventures. Having practical experience with non-profits\, he has spent over 15 years on the Board of the Boys and Girls Club of Delaware\, served on their financial committee and Chaired the Board during a successful chief-executive transition. Mike has also served with several other non-profits and has experienced some that were successful and others that failed.\n\nMike attended Temple University and Drexel graduate school
X-ALT-DESC;FMTTYPE=text/html:<br />\n<strong><em><span style="font-size:18px\;">WHAT IT TAKES TO START AND RUN A SUCCESSFUL NON-PROFIT&nbsp\;</span></em></strong><br />\nOctober 27\, 2020 | 10:00 am to 11:30 am&nbsp\;<br />\nRegister here-&nbsp\;<a href="http://events.r20.constantcontact.com/register/event?llr=ekds7zcab&amp\;oeidk=a07eh9wwe88ea2bdc7c">http://events.r20.constantcontact.com/register/event?llr=ekds7zcab&amp\;oeidk=a07eh9wwe88ea2bdc7c</a><br />\n<br />\nPRESENTED BY MIKE DILEO | In partnership with SCORE of Chester / Delaware Counties<br />\n<br />\nThis interactive presentation is designed to cover three main areas:\n<ul>\n	<li>What are the key-steps in starting a Non-profit?</li>\n	<li>What are some of the day-to-day tactics which can help maintain a successful Non-profit?</li>\n	<li>What are some strategies that can be used over time to ensure continued success?</li>\n</ul>\nSeveral local Non-profits will be used as examples to illustrate practical approaches to dealing with the opportunities and challenges of running a Non-profit.\\<br />\n&nbsp\;<br />\n<em><strong>Presenter-&nbsp\;Mike Dileo</strong></em><br />\nMike worked for the DuPont Company in the field of business financial management with over 25 years as CFO of international joint ventures. Having practical experience with non-profits\, he has spent over 15 years on the Board of the Boys and Girls Club of Delaware\, served on their financial committee and Chaired the Board during a successful chief-executive transition. Mike has also served with several other non-profits and has experienced some that were successful and others that failed.<br />\nMike attended Temple University and Drexel graduate school<br />\n&nbsp\;
LOCATION:VIRTUAL
UID:e.2394.3082
SEQUENCE:3
DTSTAMP:20260420T064309Z
URL:https://membership.westernchestercounty.com/events/details/what-it-takes-to-start-run-a-successful-non-profit-3082
END:VEVENT

END:VCALENDAR
