BEGIN:VCALENDAR
VERSION:2.0
PRODID:-//ChamberMaster//Event Calendar 2.0//EN
METHOD:PUBLISH
X-PUBLISHED-TTL:P3D
REFRESH-INTERVAL:P3D
CALSCALE:GREGORIAN
BEGIN:VEVENT
DTSTART:20150616T200000Z
DTEND:20150616T220000Z
X-MICROSOFT-CDO-ALLDAYEVENT:FALSE
SUMMARY:Young Professionals Networking
DESCRIPTION:Come out to our next installment of the WCCCC's Young Professionals Group. This is your opportunity to meet and network with other young professionals in the earlier stages of their careers.
X-ALT-DESC;FMTTYPE=text/html:Come out to our next installment of the WCCCC&#39\;s Young Professionals Group. This is your opportunity to meet and network with other young professionals in the earlier stages of their careers.
LOCATION:The Craft House 300 N. Bailey Road Thorndale\, PA 19372
UID:e.2394.5
SEQUENCE:3
DTSTAMP:20260421T132621Z
URL:https://membership.westernchestercounty.com/events/details/young-professionals-networking-06-16-2015-5
END:VEVENT

END:VCALENDAR
