BEGIN:VCALENDAR
VERSION:2.0
PRODID:-//ChamberMaster//Event Calendar 2.0//EN
METHOD:PUBLISH
X-PUBLISHED-TTL:P3D
REFRESH-INTERVAL:P3D
CALSCALE:GREGORIAN
BEGIN:VEVENT
DTSTART:20150804T210000Z
DTEND:20150804T230000Z
X-MICROSOFT-CDO-ALLDAYEVENT:FALSE
SUMMARY:Young Professionals Networking at Honeybrook Golf Club
DESCRIPTION:Join the Young Professionals for Networking and Happy Hour\n\n\n\nCome out to our next meeting of the WCCCC's Young Professional Group. This is your opportunity to meet and network with other YPs that are in the early stages of their careers.\n\n \n\n3:00 pm - Golf 9 holes  $18 Walk or $26 with Cart\n\n5:00 - 5:45 pm - Introduction Easy-Going Clinic (Limit 20) Complimentary\n\n5:45 - 7:00 pm - Putting Contest with Prizes\, Appetizers\, & Cash Bar
X-ALT-DESC;FMTTYPE=text/html:<div style="text-align: center\;"><span style="font-size:18px\;"><strong>Join the Young Professionals for Networking and Happy Hour</strong><br />\n<br />\n<em><span style="font-size:16px\;">Come out to our next meeting of the WCCCC&#39\;s Young Professional Group. This is your opportunity to meet and network with other YPs that are in the early stages of their careers.</span></em></span><br />\n&nbsp\;</div>\n\n<div><strong><span style="font-size:14px\;">3:00 pm - Golf 9 holes &nbsp\;$18 Walk or $26 with Cart<br />\n5:00 - 5:45 pm - Introduction Easy-Going Clinic (Limit 20) Complimentary<br />\n5:45&nbsp\;- 7:00 pm - Putting Contest with Prizes\, Appetizers\, &amp\; Cash Bar</span></strong></div>\n
LOCATION:Honeybrook Golf Club 1422 Cambridge Road Honey Brook\, PA 19344
UID:e.2394.10
SEQUENCE:3
DTSTAMP:20260419T121100Z
URL:https://membership.westernchestercounty.com/events/details/young-professionals-networking-at-honeybrook-golf-club-08-04-2015-10
END:VEVENT

END:VCALENDAR
